Package: gDRutils Version: 1.5.10 Command: /Library/Frameworks/R.framework/Resources/bin/R CMD INSTALL gDRutils StartedAt: 2025-02-09 15:34:00 -0500 (Sun, 09 Feb 2025) EndedAt: 2025-02-09 15:34:32 -0500 (Sun, 09 Feb 2025) EllapsedTime: 32.1 seconds RetCode: 0 Status: OK