Package: gDRutils Version: 1.5.10 Command: /home/biocbuild/bbs-3.21-bioc/R/bin/R CMD build --keep-empty-dirs --no-resave-data gDRutils StartedAt: 2025-02-09 17:19:44 -0500 (Sun, 09 Feb 2025) EndedAt: 2025-02-09 17:20:19 -0500 (Sun, 09 Feb 2025) EllapsedTime: 35.0 seconds RetCode: 0 Status: OK PackageFile: gDRutils_1.5.10.tar.gz PackageFileSize: 328.7 KiB