Package: gDRutils Version: 1.5.10 Command: /home/biocbuild/bbs-3.21-bioc/R/bin/R CMD check --install=check:gDRutils.install-out.txt --library=/home/biocbuild/bbs-3.21-bioc/R/site-library --timings gDRutils_1.5.10.tar.gz StartedAt: 2025-02-12 22:30:07 -0500 (Wed, 12 Feb 2025) EndedAt: 2025-02-12 22:33:50 -0500 (Wed, 12 Feb 2025) EllapsedTime: 223.4 seconds RetCode: 0 Status: OK CheckDir: gDRutils.Rcheck Warnings: 0