Package: gDRutils Version: 1.5.10 Command: rm -rf gDRutils.buildbin-libdir && mkdir gDRutils.buildbin-libdir && E:\biocbuild\bbs-3.21-bioc\R\bin\R.exe CMD INSTALL --build --library=gDRutils.buildbin-libdir gDRutils_1.5.10.tar.gz StartedAt: 2025-02-10 07:47:32 -0500 (Mon, 10 Feb 2025) EndedAt: 2025-02-10 07:48:46 -0500 (Mon, 10 Feb 2025) EllapsedTime: 73.2 seconds RetCode: 0 Status: OK PackageFile: gDRutils_1.5.10.zip PackageFileSize: 641.7 KiB