Package: gDRutils Version: 1.5.10 Command: chmod a+r gDRutils -R && E:\biocbuild\bbs-3.21-bioc\R\bin\R.exe CMD build --keep-empty-dirs --no-resave-data gDRutils StartedAt: 2025-02-12 18:54:03 -0500 (Wed, 12 Feb 2025) EndedAt: 2025-02-12 18:55:08 -0500 (Wed, 12 Feb 2025) EllapsedTime: 65.0 seconds RetCode: 0 Status: OK PackageFile: gDRutils_1.5.10.tar.gz PackageFileSize: 328.8 KiB