Package: gDRutils Version: 1.5.10 Command: E:\biocbuild\bbs-3.21-bioc\R\bin\R.exe CMD check --no-multiarch --install=check:gDRutils.install-out.txt --library=E:\biocbuild\bbs-3.21-bioc\R\library --no-vignettes --timings gDRutils_1.5.10.tar.gz StartedAt: 2025-02-10 01:18:11 -0500 (Mon, 10 Feb 2025) EndedAt: 2025-02-10 01:22:48 -0500 (Mon, 10 Feb 2025) EllapsedTime: 276.5 seconds RetCode: 0 Status: OK CheckDir: gDRutils.Rcheck Warnings: 0