Package: gDRutils Version: 1.5.10 Command: E:\biocbuild\bbs-3.21-bioc\R\bin\R.exe CMD INSTALL gDRutils StartedAt: 2025-02-09 16:18:14 -0500 (Sun, 09 Feb 2025) EndedAt: 2025-02-09 16:19:09 -0500 (Sun, 09 Feb 2025) EllapsedTime: 54.6 seconds RetCode: 0 Status: OK