Package: gINTomics Version: 1.3.0 Command: /Library/Frameworks/R.framework/Resources/bin/R CMD INSTALL gINTomics StartedAt: 2025-02-04 15:20:50 -0500 (Tue, 04 Feb 2025) EndedAt: 2025-02-04 15:21:23 -0500 (Tue, 04 Feb 2025) EllapsedTime: 33.0 seconds RetCode: 0 Status: OK