Package: gINTomics Version: 1.3.0 Command: rm -rf gINTomics.buildbin-libdir && mkdir gINTomics.buildbin-libdir && /Users/biocbuild/BBS/utils/build-universal.sh gINTomics_1.3.0.tar.gz /Library/Frameworks/R.framework/Resources/bin/R gINTomics.buildbin-libdir StartedAt: 2025-02-05 00:42:29 -0500 (Wed, 05 Feb 2025) EndedAt: 2025-02-05 00:44:30 -0500 (Wed, 05 Feb 2025) EllapsedTime: 121.4 seconds RetCode: 0 Status: OK PackageFile: gINTomics_1.3.0.tgz PackageFileSize: 3.809 MiB