Package: gINTomics Version: 1.3.0 Command: /home/biocbuild/bbs-3.21-bioc/R/bin/R CMD check --install=check:gINTomics.install-out.txt --library=/home/biocbuild/bbs-3.21-bioc/R/site-library --timings gINTomics_1.3.0.tar.gz StartedAt: 2025-02-04 22:46:42 -0500 (Tue, 04 Feb 2025) EndedAt: 2025-02-04 22:57:24 -0500 (Tue, 04 Feb 2025) EllapsedTime: 642.0 seconds RetCode: 0 Status: OK CheckDir: gINTomics.Rcheck Warnings: 0