############################################################################## ############################################################################## ### ### Running command: ### ### rm -rf gINTomics.buildbin-libdir && mkdir gINTomics.buildbin-libdir && E:\biocbuild\bbs-3.21-bioc\R\bin\R.exe CMD INSTALL --build --library=gINTomics.buildbin-libdir gINTomics_1.3.0.tar.gz ### ############################################################################## ############################################################################## * installing *source* package 'gINTomics' ... ** this is package 'gINTomics' version '1.3.0' ** using staged installation ** R [2025-02-05 08:03:40] [TRACE] [OmnipathR] Reading JSON from `C:\Users\biocbuild\AppData\Local\Cache\OmnipathR/cache.json` (encoding: UTF-8). [2025-02-05 08:03:40] [TRACE] [OmnipathR] JSON validation successful: TRUE [2025-02-05 08:03:40] [INFO] [OmnipathR] Initialized cache: `C:\Users\biocbuild\AppData\Local\Cache\OmnipathR`. [2025-02-05 08:03:40] [INFO] [OmnipathR] Package `OmnipathR` packaged: NA [2025-02-05 08:03:40] [INFO] [OmnipathR] Package `OmnipathR` date/publication: 2025-02-04 [2025-02-05 08:03:40] [INFO] [OmnipathR] Package `OmnipathR` built: R 4.5.0; ; 2025-02-04 21:07:00 UTC; windows [2025-02-05 08:03:40] [INFO] [OmnipathR] Package `OmnipathR` version: 3.15.6 [2025-02-05 08:03:40] [INFO] [OmnipathR] Package `OmnipathR` repository: Bioconductor 3.21 [2025-02-05 08:03:44] [INFO] [OmnipathR] Session info: [version=R Under development (unstable) (2025-01-21 r87610 ucrt); os=Windows Server 2022 x64 (build 20348); system=x86_64, mingw32; ui=RTerm; language=(EN); collate=C; ctype=English_United States.utf8; tz=America/New_York; date=2025-02-05; pandoc=2.7.3 @ C:/PROGRA~1/Pandoc/ (via rmarkdown)] [2025-02-05 08:03:53] [INFO] [OmnipathR] External libraries: [cairo=1.18.2; cairoFT=; pango=; png=1.6.44; jpeg=9.6; tiff=LIBTIFF, Version 4.7.0; tcl=8.6.13; curl=8.10.1; zlib=1.3.1; bzlib=1.0.8, 13-Jul-2019; xz=5.6.3; deflate=1.22; PCRE=10.44 2024-06-07; ICU=74.2; TRE=TRE 0.8.0 R_fixes (BSD); iconv=win_iconv; readline=; BLAS=; lapack=; lapack_version=3.12.0] [2025-02-05 08:03:53] [INFO] [OmnipathR] CURL: version: 8.10.1; headers: 8.10.1; ssl_version: (OpenSSL/3.4.0) Schannel; libz_version: 1.3; libssh_version: libssh2/1.11.0; libidn_version: NA; host: x86_64-w64-mingw32; protocols: dict, file, ftp, ftps, gopher, gophers, http, https, imap, imaps, ldap, ldaps, mqtt, pop3, pop3s, rtsp, scp, sftp, smb, smbs, smtp, smtps, telnet, tftp; ipv6: TRUE; http2: TRUE; idn: TRUE; url_parser: TRUE [2025-02-05 08:03:53] [TRACE] [OmnipathR] Running on a build server, wiping cache. [2025-02-05 08:03:53] [TRACE] [OmnipathR] Cache is at `C:\Users\biocbuild\AppData\Local\Cache\OmnipathR`. [2025-02-05 08:03:53] [TRACE] [OmnipathR] Contains 1 files. [2025-02-05 08:03:53] [TRACE] [OmnipathR] Cache is locked: FALSE. [2025-02-05 08:03:53] [TRACE] [OmnipathR] Reading JSON from `C:\Users\biocbuild\AppData\Local\Cache\OmnipathR/cache.json` (encoding: UTF-8). [2025-02-05 08:03:53] [TRACE] [OmnipathR] JSON validation successful: TRUE [2025-02-05 08:03:53] [SUCCESS] [OmnipathR] Removing all cache contents from `C:\Users\biocbuild\AppData\Local\Cache\OmnipathR`. [2025-02-05 08:03:53] [TRACE] [OmnipathR] Pandoc version: `2.7.3`. [2025-02-05 08:03:53] [TRACE] [OmnipathR] Reading JSON from `E:/biocbuild/bbs-3.21-bioc/R/library/OmnipathR/db/db_def.json` (encoding: UTF-8). [2025-02-05 08:03:53] [TRACE] [OmnipathR] JSON validation successful: TRUE [2025-02-05 08:03:53] [TRACE] [OmnipathR] Reading JSON from `E:/biocbuild/bbs-3.21-bioc/R/library/OmnipathR/internal/magic_bytes.json` (encoding: UTF-8). [2025-02-05 08:03:53] [TRACE] [OmnipathR] JSON validation successful: TRUE [2025-02-05 08:03:53] [TRACE] [OmnipathR] Reading JSON from `E:/biocbuild/bbs-3.21-bioc/R/library/OmnipathR/internal/urls.json` (encoding: UTF-8). [2025-02-05 08:03:53] [TRACE] [OmnipathR] JSON validation successful: TRUE [2025-02-05 08:03:53] [TRACE] [OmnipathR] Reading JSON from `E:/biocbuild/bbs-3.21-bioc/R/library/OmnipathR/internal/id_types.json` (encoding: UTF-8). [2025-02-05 08:03:53] [TRACE] [OmnipathR] JSON validation successful: TRUE [2025-02-05 08:03:53] [TRACE] [OmnipathR] Cache locked: FALSE ** data ** inst ** byte-compile and prepare package for lazy loading [2025-02-05 08:05:12] [TRACE] [OmnipathR] Reading JSON from `C:\Users\biocbuild\AppData\Local\Cache\OmnipathR/cache.json` (encoding: UTF-8). [2025-02-05 08:05:12] [TRACE] [OmnipathR] JSON validation successful: TRUE [2025-02-05 08:05:12] [INFO] [OmnipathR] Initialized cache: `C:\Users\biocbuild\AppData\Local\Cache\OmnipathR`. [2025-02-05 08:05:12] [INFO] [OmnipathR] Package `OmnipathR` packaged: NA [2025-02-05 08:05:12] [INFO] [OmnipathR] Package `OmnipathR` date/publication: 2025-02-04 [2025-02-05 08:05:12] [INFO] [OmnipathR] Package `OmnipathR` built: R 4.5.0; ; 2025-02-04 21:07:00 UTC; windows [2025-02-05 08:05:12] [INFO] [OmnipathR] Package `OmnipathR` version: 3.15.6 [2025-02-05 08:05:12] [INFO] [OmnipathR] Package `OmnipathR` repository: Bioconductor 3.21 [2025-02-05 08:05:13] [INFO] [OmnipathR] Session info: [version=R Under development (unstable) (2025-01-21 r87610 ucrt); os=Windows Server 2022 x64 (build 20348); system=x86_64, mingw32; ui=RTerm; language=(EN); collate=C; ctype=English_United States.utf8; tz=America/New_York; date=2025-02-05; pandoc=2.7.3 @ C:/PROGRA~1/Pandoc/ (via rmarkdown)] [2025-02-05 08:05:13] [INFO] [OmnipathR] External libraries: [cairo=1.18.2; cairoFT=; pango=; png=1.6.44; jpeg=9.6; tiff=LIBTIFF, Version 4.7.0; tcl=8.6.13; curl=8.10.1; zlib=1.3.1; bzlib=1.0.8, 13-Jul-2019; xz=5.6.3; deflate=1.22; PCRE=10.44 2024-06-07; ICU=74.2; TRE=TRE 0.8.0 R_fixes (BSD); iconv=win_iconv; readline=; BLAS=; lapack=; lapack_version=3.12.0] [2025-02-05 08:05:13] [INFO] [OmnipathR] CURL: version: 8.10.1; headers: 8.10.1; ssl_version: (OpenSSL/3.4.0) Schannel; libz_version: 1.3; libssh_version: libssh2/1.11.0; libidn_version: NA; host: x86_64-w64-mingw32; protocols: dict, file, ftp, ftps, gopher, gophers, http, https, imap, imaps, ldap, ldaps, mqtt, pop3, pop3s, rtsp, scp, sftp, smb, smbs, smtp, smtps, telnet, tftp; ipv6: TRUE; http2: TRUE; idn: TRUE; url_parser: TRUE [2025-02-05 08:05:13] [TRACE] [OmnipathR] Running on a build server, wiping cache. [2025-02-05 08:05:13] [TRACE] [OmnipathR] Cache is at `C:\Users\biocbuild\AppData\Local\Cache\OmnipathR`. [2025-02-05 08:05:13] [TRACE] [OmnipathR] Contains 1 files. [2025-02-05 08:05:13] [TRACE] [OmnipathR] Cache is locked: FALSE. [2025-02-05 08:05:13] [TRACE] [OmnipathR] Reading JSON from `C:\Users\biocbuild\AppData\Local\Cache\OmnipathR/cache.json` (encoding: UTF-8). [2025-02-05 08:05:13] [TRACE] [OmnipathR] JSON validation successful: TRUE [2025-02-05 08:05:13] [SUCCESS] [OmnipathR] Removing all cache contents from `C:\Users\biocbuild\AppData\Local\Cache\OmnipathR`. [2025-02-05 08:05:13] [TRACE] [OmnipathR] Pandoc version: `2.7.3`. [2025-02-05 08:05:13] [TRACE] [OmnipathR] Reading JSON from `E:/biocbuild/bbs-3.21-bioc/R/library/OmnipathR/db/db_def.json` (encoding: UTF-8). [2025-02-05 08:05:13] [TRACE] [OmnipathR] JSON validation successful: TRUE [2025-02-05 08:05:13] [TRACE] [OmnipathR] Reading JSON from `E:/biocbuild/bbs-3.21-bioc/R/library/OmnipathR/internal/magic_bytes.json` (encoding: UTF-8). [2025-02-05 08:05:13] [TRACE] [OmnipathR] JSON validation successful: TRUE [2025-02-05 08:05:13] [TRACE] [OmnipathR] Reading JSON from `E:/biocbuild/bbs-3.21-bioc/R/library/OmnipathR/internal/urls.json` (encoding: UTF-8). [2025-02-05 08:05:13] [TRACE] [OmnipathR] JSON validation successful: TRUE [2025-02-05 08:05:13] [TRACE] [OmnipathR] Reading JSON from `E:/biocbuild/bbs-3.21-bioc/R/library/OmnipathR/internal/id_types.json` (encoding: UTF-8). [2025-02-05 08:05:13] [TRACE] [OmnipathR] JSON validation successful: TRUE [2025-02-05 08:05:13] [TRACE] [OmnipathR] Cache locked: FALSE ** help *** installing help indices *** copying figures ** building package indices ** installing vignettes ** testing if installed package can be loaded from temporary location [2025-02-05 08:06:09] [TRACE] [OmnipathR] Reading JSON from `C:\Users\biocbuild\AppData\Local\Cache\OmnipathR/cache.json` (encoding: UTF-8). [2025-02-05 08:06:09] [TRACE] [OmnipathR] JSON validation successful: TRUE [2025-02-05 08:06:09] [INFO] [OmnipathR] Initialized cache: `C:\Users\biocbuild\AppData\Local\Cache\OmnipathR`. [2025-02-05 08:06:09] [INFO] [OmnipathR] Package `OmnipathR` packaged: NA [2025-02-05 08:06:09] [INFO] [OmnipathR] Package `OmnipathR` date/publication: 2025-02-04 [2025-02-05 08:06:09] [INFO] [OmnipathR] Package `OmnipathR` built: R 4.5.0; ; 2025-02-04 21:07:00 UTC; windows [2025-02-05 08:06:09] [INFO] [OmnipathR] Package `OmnipathR` version: 3.15.6 [2025-02-05 08:06:09] [INFO] [OmnipathR] Package `OmnipathR` repository: Bioconductor 3.21 [2025-02-05 08:06:10] [INFO] [OmnipathR] Session info: [version=R Under development (unstable) (2025-01-21 r87610 ucrt); os=Windows Server 2022 x64 (build 20348); system=x86_64, mingw32; ui=RTerm; language=(EN); collate=C; ctype=English_United States.utf8; tz=America/New_York; date=2025-02-05; pandoc=2.7.3 @ C:/PROGRA~1/Pandoc/ (via rmarkdown)] [2025-02-05 08:06:10] [INFO] [OmnipathR] External libraries: [cairo=1.18.2; cairoFT=; pango=; png=1.6.44; jpeg=9.6; tiff=LIBTIFF, Version 4.7.0; tcl=8.6.13; curl=8.10.1; zlib=1.3.1; bzlib=1.0.8, 13-Jul-2019; xz=5.6.3; deflate=1.22; PCRE=10.44 2024-06-07; ICU=74.2; TRE=TRE 0.8.0 R_fixes (BSD); iconv=win_iconv; readline=; BLAS=; lapack=; lapack_version=3.12.0] [2025-02-05 08:06:10] [INFO] [OmnipathR] CURL: version: 8.10.1; headers: 8.10.1; ssl_version: (OpenSSL/3.4.0) Schannel; libz_version: 1.3; libssh_version: libssh2/1.11.0; libidn_version: NA; host: x86_64-w64-mingw32; protocols: dict, file, ftp, ftps, gopher, gophers, http, https, imap, imaps, ldap, ldaps, mqtt, pop3, pop3s, rtsp, scp, sftp, smb, smbs, smtp, smtps, telnet, tftp; ipv6: TRUE; http2: TRUE; idn: TRUE; url_parser: TRUE [2025-02-05 08:06:10] [TRACE] [OmnipathR] Running on a build server, wiping cache. [2025-02-05 08:06:10] [TRACE] [OmnipathR] Cache is at `C:\Users\biocbuild\AppData\Local\Cache\OmnipathR`. [2025-02-05 08:06:10] [TRACE] [OmnipathR] Contains 1 files. [2025-02-05 08:06:10] [TRACE] [OmnipathR] Cache is locked: FALSE. [2025-02-05 08:06:10] [TRACE] [OmnipathR] Reading JSON from `C:\Users\biocbuild\AppData\Local\Cache\OmnipathR/cache.json` (encoding: UTF-8). [2025-02-05 08:06:10] [TRACE] [OmnipathR] JSON validation successful: TRUE [2025-02-05 08:06:10] [SUCCESS] [OmnipathR] Removing all cache contents from `C:\Users\biocbuild\AppData\Local\Cache\OmnipathR`. [2025-02-05 08:06:10] [TRACE] [OmnipathR] Pandoc version: `2.7.3`. [2025-02-05 08:06:10] [TRACE] [OmnipathR] Reading JSON from `E:/biocbuild/bbs-3.21-bioc/R/library/OmnipathR/db/db_def.json` (encoding: UTF-8). [2025-02-05 08:06:10] [TRACE] [OmnipathR] JSON validation successful: TRUE [2025-02-05 08:06:10] [TRACE] [OmnipathR] Reading JSON from `E:/biocbuild/bbs-3.21-bioc/R/library/OmnipathR/internal/magic_bytes.json` (encoding: UTF-8). [2025-02-05 08:06:10] [TRACE] [OmnipathR] JSON validation successful: TRUE [2025-02-05 08:06:10] [TRACE] [OmnipathR] Reading JSON from `E:/biocbuild/bbs-3.21-bioc/R/library/OmnipathR/internal/urls.json` (encoding: UTF-8). [2025-02-05 08:06:10] [TRACE] [OmnipathR] JSON validation successful: TRUE [2025-02-05 08:06:10] [TRACE] [OmnipathR] Reading JSON from `E:/biocbuild/bbs-3.21-bioc/R/library/OmnipathR/internal/id_types.json` (encoding: UTF-8). [2025-02-05 08:06:10] [TRACE] [OmnipathR] JSON validation successful: TRUE [2025-02-05 08:06:11] [TRACE] [OmnipathR] Cache locked: FALSE ** testing if installed package can be loaded from final location [2025-02-05 08:06:27] [TRACE] [OmnipathR] Reading JSON from `C:\Users\biocbuild\AppData\Local\Cache\OmnipathR/cache.json` (encoding: UTF-8). [2025-02-05 08:06:27] [TRACE] [OmnipathR] JSON validation successful: TRUE [2025-02-05 08:06:27] [INFO] [OmnipathR] Initialized cache: `C:\Users\biocbuild\AppData\Local\Cache\OmnipathR`. [2025-02-05 08:06:27] [INFO] [OmnipathR] Package `OmnipathR` packaged: NA [2025-02-05 08:06:27] [INFO] [OmnipathR] Package `OmnipathR` date/publication: 2025-02-04 [2025-02-05 08:06:27] [INFO] [OmnipathR] Package `OmnipathR` built: R 4.5.0; ; 2025-02-04 21:07:00 UTC; windows [2025-02-05 08:06:27] [INFO] [OmnipathR] Package `OmnipathR` version: 3.15.6 [2025-02-05 08:06:27] [INFO] [OmnipathR] Package `OmnipathR` repository: Bioconductor 3.21 [2025-02-05 08:06:27] [INFO] [OmnipathR] Session info: [version=R Under development (unstable) (2025-01-21 r87610 ucrt); os=Windows Server 2022 x64 (build 20348); system=x86_64, mingw32; ui=RTerm; language=(EN); collate=C; ctype=English_United States.utf8; tz=America/New_York; date=2025-02-05; pandoc=2.7.3 @ C:/PROGRA~1/Pandoc/ (via rmarkdown)] [2025-02-05 08:06:27] [INFO] [OmnipathR] External libraries: [cairo=1.18.2; cairoFT=; pango=; png=1.6.44; jpeg=9.6; tiff=LIBTIFF, Version 4.7.0; tcl=8.6.13; curl=8.10.1; zlib=1.3.1; bzlib=1.0.8, 13-Jul-2019; xz=5.6.3; deflate=1.22; PCRE=10.44 2024-06-07; ICU=74.2; TRE=TRE 0.8.0 R_fixes (BSD); iconv=win_iconv; readline=; BLAS=; lapack=; lapack_version=3.12.0] [2025-02-05 08:06:27] [INFO] [OmnipathR] CURL: version: 8.10.1; headers: 8.10.1; ssl_version: (OpenSSL/3.4.0) Schannel; libz_version: 1.3; libssh_version: libssh2/1.11.0; libidn_version: NA; host: x86_64-w64-mingw32; protocols: dict, file, ftp, ftps, gopher, gophers, http, https, imap, imaps, ldap, ldaps, mqtt, pop3, pop3s, rtsp, scp, sftp, smb, smbs, smtp, smtps, telnet, tftp; ipv6: TRUE; http2: TRUE; idn: TRUE; url_parser: TRUE [2025-02-05 08:06:27] [TRACE] [OmnipathR] Running on a build server, wiping cache. [2025-02-05 08:06:27] [TRACE] [OmnipathR] Cache is at `C:\Users\biocbuild\AppData\Local\Cache\OmnipathR`. [2025-02-05 08:06:27] [TRACE] [OmnipathR] Contains 1 files. [2025-02-05 08:06:27] [TRACE] [OmnipathR] Cache is locked: FALSE. [2025-02-05 08:06:27] [TRACE] [OmnipathR] Reading JSON from `C:\Users\biocbuild\AppData\Local\Cache\OmnipathR/cache.json` (encoding: UTF-8). [2025-02-05 08:06:27] [TRACE] [OmnipathR] JSON validation successful: TRUE [2025-02-05 08:06:27] [SUCCESS] [OmnipathR] Removing all cache contents from `C:\Users\biocbuild\AppData\Local\Cache\OmnipathR`. [2025-02-05 08:06:27] [TRACE] [OmnipathR] Pandoc version: `2.7.3`. [2025-02-05 08:06:27] [TRACE] [OmnipathR] Reading JSON from `E:/biocbuild/bbs-3.21-bioc/R/library/OmnipathR/db/db_def.json` (encoding: UTF-8). [2025-02-05 08:06:27] [TRACE] [OmnipathR] JSON validation successful: TRUE [2025-02-05 08:06:27] [TRACE] [OmnipathR] Reading JSON from `E:/biocbuild/bbs-3.21-bioc/R/library/OmnipathR/internal/magic_bytes.json` (encoding: UTF-8). [2025-02-05 08:06:27] [TRACE] [OmnipathR] JSON validation successful: TRUE [2025-02-05 08:06:28] [TRACE] [OmnipathR] Reading JSON from `E:/biocbuild/bbs-3.21-bioc/R/library/OmnipathR/internal/urls.json` (encoding: UTF-8). [2025-02-05 08:06:28] [TRACE] [OmnipathR] JSON validation successful: TRUE [2025-02-05 08:06:28] [TRACE] [OmnipathR] Reading JSON from `E:/biocbuild/bbs-3.21-bioc/R/library/OmnipathR/internal/id_types.json` (encoding: UTF-8). [2025-02-05 08:06:28] [TRACE] [OmnipathR] JSON validation successful: TRUE [2025-02-05 08:06:28] [TRACE] [OmnipathR] Cache locked: FALSE ** testing if installed package keeps a record of temporary installation path * MD5 sums packaged installation of 'gINTomics' as gINTomics_1.3.0.zip * DONE (gINTomics)