Package: gINTomics Version: 1.3.0 Command: chmod a+r gINTomics -R && E:\biocbuild\bbs-3.21-bioc\R\bin\R.exe CMD build --keep-empty-dirs --no-resave-data gINTomics StartedAt: 2025-02-04 19:02:28 -0500 (Tue, 04 Feb 2025) EndedAt: 2025-02-04 19:06:18 -0500 (Tue, 04 Feb 2025) EllapsedTime: 230.0 seconds RetCode: 0 Status: OK PackageFile: gINTomics_1.3.0.tar.gz PackageFileSize: 3.482 MiB