Package: gINTomics Version: 1.3.0 Command: E:\biocbuild\bbs-3.21-bioc\R\bin\R.exe CMD check --no-multiarch --install=check:gINTomics.install-out.txt --library=E:\biocbuild\bbs-3.21-bioc\R\library --no-vignettes --timings gINTomics_1.3.0.tar.gz StartedAt: 2025-02-05 02:04:05 -0500 (Wed, 05 Feb 2025) EndedAt: 2025-02-05 02:15:35 -0500 (Wed, 05 Feb 2025) EllapsedTime: 689.6 seconds RetCode: 0 Status: OK CheckDir: gINTomics.Rcheck Warnings: 0