Package: gINTomics Version: 1.3.0 Command: E:\biocbuild\bbs-3.21-bioc\R\bin\R.exe CMD INSTALL gINTomics StartedAt: 2025-02-04 16:31:50 -0500 (Tue, 04 Feb 2025) EndedAt: 2025-02-04 16:34:09 -0500 (Tue, 04 Feb 2025) EllapsedTime: 139.0 seconds RetCode: 0 Status: OK