Package: gaga Version: 2.53.0 Command: /Library/Frameworks/R.framework/Resources/bin/R CMD check --install=check:gaga.install-out.txt --library=/Library/Frameworks/R.framework/Resources/library --no-vignettes --timings gaga_2.53.0.tar.gz StartedAt: 2025-02-09 19:17:21 -0500 (Sun, 09 Feb 2025) EndedAt: 2025-02-09 19:17:45 -0500 (Sun, 09 Feb 2025) EllapsedTime: 24.3 seconds RetCode: 0 Status: WARNINGS CheckDir: gaga.Rcheck Warnings: 1