Package: gaga Version: 2.53.0 Command: /home/biocbuild/R/R/bin/R CMD check --install=check:gaga.install-out.txt --library=/home/biocbuild/R/R/site-library --no-vignettes --timings gaga_2.53.0.tar.gz StartedAt: 2025-01-28 10:43:43 -0000 (Tue, 28 Jan 2025) EndedAt: 2025-01-28 10:44:48 -0000 (Tue, 28 Jan 2025) EllapsedTime: 65.0 seconds RetCode: 0 Status: WARNINGS CheckDir: gaga.Rcheck Warnings: 1