Package: gaga Version: 2.53.0 Command: /home/biocbuild/R/R/bin/R CMD INSTALL gaga StartedAt: 2025-01-29 19:35:52 -0000 (Wed, 29 Jan 2025) EndedAt: 2025-01-29 19:36:17 -0000 (Wed, 29 Jan 2025) EllapsedTime: 24.5 seconds RetCode: 0 Status: OK