Package: gaga Version: 2.53.0 Command: rm -rf gaga.buildbin-libdir && mkdir gaga.buildbin-libdir && /Users/biocbuild/BBS/utils/build-universal.sh gaga_2.53.0.tar.gz /Library/Frameworks/R.framework/Resources/bin/R gaga.buildbin-libdir StartedAt: 2025-02-10 00:54:15 -0500 (Mon, 10 Feb 2025) EndedAt: 2025-02-10 00:54:38 -0500 (Mon, 10 Feb 2025) EllapsedTime: 23.2 seconds RetCode: 0 Status: OK PackageFile: gaga_2.53.0.tgz PackageFileSize: 786.8 KiB