Package: gaga Version: 2.53.0 Command: /Library/Frameworks/R.framework/Resources/bin/R CMD build --keep-empty-dirs --no-resave-data gaga StartedAt: 2025-02-03 16:49:22 -0500 (Mon, 03 Feb 2025) EndedAt: 2025-02-03 16:49:49 -0500 (Mon, 03 Feb 2025) EllapsedTime: 27.5 seconds RetCode: 0 Status: OK PackageFile: gaga_2.53.0.tar.gz PackageFileSize: 570.2 KiB