Package: gaga Version: 2.53.0 Command: /Library/Frameworks/R.framework/Resources/bin/R CMD INSTALL gaga StartedAt: 2025-02-03 15:12:50 -0500 (Mon, 03 Feb 2025) EndedAt: 2025-02-03 15:13:20 -0500 (Mon, 03 Feb 2025) EllapsedTime: 29.8 seconds RetCode: 0 Status: OK