Package: gaga Version: 2.53.0 Command: /home/biocbuild/bbs-3.21-bioc/R/bin/R CMD build --keep-empty-dirs --no-resave-data gaga StartedAt: 2025-02-03 17:27:17 -0500 (Mon, 03 Feb 2025) EndedAt: 2025-02-03 17:27:39 -0500 (Mon, 03 Feb 2025) EllapsedTime: 22.0 seconds RetCode: 0 Status: OK PackageFile: gaga_2.53.0.tar.gz PackageFileSize: 570.1 KiB