Package: gaga Version: 2.53.0 Command: /home/biocbuild/bbs-3.21-bioc/R/bin/R CMD INSTALL gaga StartedAt: 2025-02-03 15:22:08 -0500 (Mon, 03 Feb 2025) EndedAt: 2025-02-03 15:22:22 -0500 (Mon, 03 Feb 2025) EllapsedTime: 13.8 seconds RetCode: 0 Status: OK