Package: gaga Version: 2.53.0 Command: rm -rf gaga.buildbin-libdir && mkdir gaga.buildbin-libdir && E:\biocbuild\bbs-3.21-bioc\R\bin\R.exe CMD INSTALL --build --library=gaga.buildbin-libdir gaga_2.53.0.tar.gz StartedAt: 2025-02-04 08:00:24 -0500 (Tue, 04 Feb 2025) EndedAt: 2025-02-04 08:00:51 -0500 (Tue, 04 Feb 2025) EllapsedTime: 27.0 seconds RetCode: 0 Status: OK PackageFile: gaga_2.53.0.zip PackageFileSize: 627.5 KiB