Package: gaga Version: 2.53.0 Command: chmod a+r gaga -R && E:\biocbuild\bbs-3.21-bioc\R\bin\R.exe CMD build --keep-empty-dirs --no-resave-data gaga StartedAt: 2025-02-09 18:48:21 -0500 (Sun, 09 Feb 2025) EndedAt: 2025-02-09 18:49:03 -0500 (Sun, 09 Feb 2025) EllapsedTime: 41.6 seconds RetCode: 0 Status: OK PackageFile: gaga_2.53.0.tar.gz PackageFileSize: 434 KiB