Package: gaga Version: 2.53.0 Command: E:\biocbuild\bbs-3.21-bioc\R\bin\R.exe CMD check --no-multiarch --install=check:gaga.install-out.txt --library=E:\biocbuild\bbs-3.21-bioc\R\library --no-vignettes --timings gaga_2.53.0.tar.gz StartedAt: 2025-02-04 01:42:32 -0500 (Tue, 04 Feb 2025) EndedAt: 2025-02-04 01:43:45 -0500 (Tue, 04 Feb 2025) EllapsedTime: 73.2 seconds RetCode: 0 Status: WARNINGS CheckDir: gaga.Rcheck Warnings: 1