Package: gage Version: 2.57.0 Command: /Library/Frameworks/R.framework/Resources/bin/R CMD build --keep-empty-dirs --no-resave-data gage StartedAt: 2025-02-12 16:22:02 -0500 (Wed, 12 Feb 2025) EndedAt: 2025-02-12 16:23:32 -0500 (Wed, 12 Feb 2025) EllapsedTime: 90.0 seconds RetCode: 0 Status: OK PackageFile: gage_2.57.0.tar.gz PackageFileSize: 4.282 MiB