Package: gage Version: 2.57.0 Command: /Library/Frameworks/R.framework/Resources/bin/R CMD build --keep-empty-dirs --no-resave-data gage StartedAt: 2025-02-12 16:46:10 -0500 (Wed, 12 Feb 2025) EndedAt: 2025-02-12 16:49:00 -0500 (Wed, 12 Feb 2025) EllapsedTime: 170.4 seconds RetCode: 0 Status: OK PackageFile: gage_2.57.0.tar.gz PackageFileSize: 4.283 MiB