Package: gage Version: 2.57.0 Command: chmod a+r gage -R && E:\biocbuild\bbs-3.21-bioc\R\bin\R.exe CMD build --keep-empty-dirs --no-resave-data gage StartedAt: 2025-02-09 18:48:26 -0500 (Sun, 09 Feb 2025) EndedAt: 2025-02-09 18:51:23 -0500 (Sun, 09 Feb 2025) EllapsedTime: 176.7 seconds RetCode: 0 Status: OK PackageFile: gage_2.57.0.tar.gz PackageFileSize: 4.298 MiB