Package: gage Version: 2.57.0 Command: E:\biocbuild\bbs-3.21-bioc\R\bin\R.exe CMD check --no-multiarch --install=check:gage.install-out.txt --library=E:\biocbuild\bbs-3.21-bioc\R\library --no-vignettes --timings gage_2.57.0.tar.gz StartedAt: 2025-02-13 01:24:45 -0500 (Thu, 13 Feb 2025) EndedAt: 2025-02-13 01:27:02 -0500 (Thu, 13 Feb 2025) EllapsedTime: 136.4 seconds RetCode: 0 Status: WARNINGS CheckDir: gage.Rcheck Warnings: 1