Package: gatom Version: 1.5.0 Command: /Library/Frameworks/R.framework/Resources/bin/R CMD build --keep-empty-dirs --no-resave-data gatom StartedAt: 2025-02-09 16:49:07 -0500 (Sun, 09 Feb 2025) EndedAt: 2025-02-09 16:55:39 -0500 (Sun, 09 Feb 2025) EllapsedTime: 391.5 seconds RetCode: 0 Status: OK PackageFile: gatom_1.5.0.tar.gz PackageFileSize: 1.611 MiB