Package: gatom Version: 1.5.0 Command: rm -rf gatom.buildbin-libdir && mkdir gatom.buildbin-libdir && E:\biocbuild\bbs-3.21-bioc\R\bin\R.exe CMD INSTALL --build --library=gatom.buildbin-libdir gatom_1.5.0.tar.gz StartedAt: 2025-02-04 08:00:33 -0500 (Tue, 04 Feb 2025) EndedAt: 2025-02-04 08:01:06 -0500 (Tue, 04 Feb 2025) EllapsedTime: 32.8 seconds RetCode: 0 Status: OK PackageFile: gatom_1.5.0.zip PackageFileSize: 1.784 MiB