Package: gatom Version: 1.5.0 Command: chmod a+r gatom -R && E:\biocbuild\bbs-3.21-bioc\R\bin\R.exe CMD build --keep-empty-dirs --no-resave-data gatom StartedAt: 2025-02-04 18:51:46 -0500 (Tue, 04 Feb 2025) EndedAt: 2025-02-04 18:54:54 -0500 (Tue, 04 Feb 2025) EllapsedTime: 188.0 seconds RetCode: 1 Status: ERROR PackageFile: None PackageFileSize: NA