Package: gatom Version: 1.5.0 Command: E:\biocbuild\bbs-3.21-bioc\R\bin\R.exe CMD INSTALL gatom StartedAt: 2025-02-04 15:41:42 -0500 (Tue, 04 Feb 2025) EndedAt: 2025-02-04 15:42:10 -0500 (Tue, 04 Feb 2025) EllapsedTime: 27.6 seconds RetCode: 0 Status: OK