Package: gcatest Version: 2.7.0 Command: /Library/Frameworks/R.framework/Resources/bin/R CMD build --keep-empty-dirs --no-resave-data gcatest StartedAt: 2025-02-09 16:22:30 -0500 (Sun, 09 Feb 2025) EndedAt: 2025-02-09 16:22:43 -0500 (Sun, 09 Feb 2025) EllapsedTime: 13.1 seconds RetCode: 0 Status: OK PackageFile: gcatest_2.7.0.tar.gz PackageFileSize: 2.147 MiB