Package: gcatest Version: 2.7.0 Command: /Library/Frameworks/R.framework/Resources/bin/R CMD check --install=check:gcatest.install-out.txt --library=/Library/Frameworks/R.framework/Resources/library --no-vignettes --timings gcatest_2.7.0.tar.gz StartedAt: 2025-02-09 19:18:12 -0500 (Sun, 09 Feb 2025) EndedAt: 2025-02-09 19:18:30 -0500 (Sun, 09 Feb 2025) EllapsedTime: 17.2 seconds RetCode: 0 Status: OK CheckDir: gcatest.Rcheck Warnings: 0