Package: gcatest Version: 2.7.0 Command: /Library/Frameworks/R.framework/Resources/bin/R CMD check --install=check:gcatest.install-out.txt --library=/Library/Frameworks/R.framework/Resources/library --no-vignettes --timings gcatest_2.7.0.tar.gz StartedAt: 2025-02-09 20:48:59 -0500 (Sun, 09 Feb 2025) EndedAt: 2025-02-09 20:49:45 -0500 (Sun, 09 Feb 2025) EllapsedTime: 46.0 seconds RetCode: 0 Status: OK CheckDir: gcatest.Rcheck Warnings: 0