Package: gcatest Version: 2.7.0 Command: /home/biocbuild/bbs-3.21-bioc/R/bin/R CMD build --keep-empty-dirs --no-resave-data gcatest StartedAt: 2025-02-09 17:18:58 -0500 (Sun, 09 Feb 2025) EndedAt: 2025-02-09 17:19:21 -0500 (Sun, 09 Feb 2025) EllapsedTime: 23.0 seconds RetCode: 0 Status: OK PackageFile: gcatest_2.7.0.tar.gz PackageFileSize: 2.147 MiB