Package: gcatest Version: 2.7.0 Command: chmod a+r gcatest -R && E:\biocbuild\bbs-3.21-bioc\R\bin\R.exe CMD build --keep-empty-dirs --no-resave-data gcatest StartedAt: 2025-02-09 18:49:04 -0500 (Sun, 09 Feb 2025) EndedAt: 2025-02-09 18:49:48 -0500 (Sun, 09 Feb 2025) EllapsedTime: 44.7 seconds RetCode: 0 Status: OK PackageFile: gcatest_2.7.0.tar.gz PackageFileSize: 2.147 MiB