Package: gcatest Version: 2.7.0 Command: E:\biocbuild\bbs-3.21-bioc\R\bin\R.exe CMD INSTALL gcatest StartedAt: 2025-02-09 15:22:26 -0500 (Sun, 09 Feb 2025) EndedAt: 2025-02-09 15:22:36 -0500 (Sun, 09 Feb 2025) EllapsedTime: 9.6 seconds RetCode: 0 Status: OK