Package: geNetClassifier Version: 1.47.0 Command: rm -rf geNetClassifier.buildbin-libdir && mkdir geNetClassifier.buildbin-libdir && /Users/biocbuild/BBS/utils/build-universal.sh geNetClassifier_1.47.0.tar.gz /Library/Frameworks/R.framework/Resources/bin/R geNetClassifier.buildbin-libdir StartedAt: 2025-02-09 22:15:31 -0500 (Sun, 09 Feb 2025) EndedAt: 2025-02-09 22:15:35 -0500 (Sun, 09 Feb 2025) EllapsedTime: 4.1 seconds RetCode: 0 Status: OK PackageFile: geNetClassifier_1.47.0.tgz PackageFileSize: 3.237 MiB