Package: geNetClassifier Version: 1.47.0 Command: rm -rf geNetClassifier.buildbin-libdir && mkdir geNetClassifier.buildbin-libdir && /Users/biocbuild/BBS/utils/build-universal.sh geNetClassifier_1.47.0.tar.gz /Library/Frameworks/R.framework/Resources/bin/R geNetClassifier.buildbin-libdir StartedAt: 2025-02-10 00:54:57 -0500 (Mon, 10 Feb 2025) EndedAt: 2025-02-10 00:55:13 -0500 (Mon, 10 Feb 2025) EllapsedTime: 16.0 seconds RetCode: 0 Status: OK PackageFile: geNetClassifier_1.47.0.tgz PackageFileSize: 3.235 MiB