Package: geNetClassifier Version: 1.47.0 Command: /Library/Frameworks/R.framework/Resources/bin/R CMD build --keep-empty-dirs --no-resave-data geNetClassifier StartedAt: 2025-02-12 16:49:00 -0500 (Wed, 12 Feb 2025) EndedAt: 2025-02-12 16:49:23 -0500 (Wed, 12 Feb 2025) EllapsedTime: 22.9 seconds RetCode: 0 Status: OK PackageFile: geNetClassifier_1.47.0.tar.gz PackageFileSize: 3.939 MiB