Package: geNetClassifier Version: 1.47.0 Command: /Library/Frameworks/R.framework/Resources/bin/R CMD check --install=check:geNetClassifier.install-out.txt --library=/Library/Frameworks/R.framework/Resources/library --no-vignettes --timings geNetClassifier_1.47.0.tar.gz StartedAt: 2025-02-09 20:54:06 -0500 (Sun, 09 Feb 2025) EndedAt: 2025-02-09 20:55:31 -0500 (Sun, 09 Feb 2025) EllapsedTime: 85.3 seconds RetCode: 0 Status: OK CheckDir: geNetClassifier.Rcheck Warnings: 0