Package: geNetClassifier Version: 1.47.0 Command: /Library/Frameworks/R.framework/Resources/bin/R CMD INSTALL geNetClassifier StartedAt: 2025-02-12 15:40:16 -0500 (Wed, 12 Feb 2025) EndedAt: 2025-02-12 15:40:29 -0500 (Wed, 12 Feb 2025) EllapsedTime: 13.1 seconds RetCode: 0 Status: OK