Package: geNetClassifier Version: 1.47.0 Command: E:\biocbuild\bbs-3.21-bioc\R\bin\R.exe CMD check --no-multiarch --install=check:geNetClassifier.install-out.txt --library=E:\biocbuild\bbs-3.21-bioc\R\library --no-vignettes --timings geNetClassifier_1.47.0.tar.gz StartedAt: 2025-02-13 01:33:44 -0500 (Thu, 13 Feb 2025) EndedAt: 2025-02-13 01:35:10 -0500 (Thu, 13 Feb 2025) EllapsedTime: 86.4 seconds RetCode: 0 Status: OK CheckDir: geNetClassifier.Rcheck Warnings: 0