Package: gemini Version: 1.21.0 Maintainer: Sidharth Jain MaintainerEmail: sidharthsjain at gmail.com git_url: https://git.bioconductor.org/packages/gemini git_branch: devel git_last_commit: 22ea9ce git_last_commit_date: 2024-10-29 10:38:26 -0500 (Tue, 29 Oct 2024)