Package: gemini Version: 1.21.0 Command: /Library/Frameworks/R.framework/Resources/bin/R CMD build --keep-empty-dirs --no-resave-data gemini StartedAt: 2025-02-09 16:23:31 -0500 (Sun, 09 Feb 2025) EndedAt: 2025-02-09 16:23:42 -0500 (Sun, 09 Feb 2025) EllapsedTime: 11.1 seconds RetCode: 0 Status: OK PackageFile: gemini_1.21.0.tar.gz PackageFileSize: 4.115 MiB