Package: gemini Version: 1.21.0 Command: /Library/Frameworks/R.framework/Resources/bin/R CMD check --install=check:gemini.install-out.txt --library=/Library/Frameworks/R.framework/Resources/library --no-vignettes --timings gemini_1.21.0.tar.gz StartedAt: 2025-02-09 19:19:49 -0500 (Sun, 09 Feb 2025) EndedAt: 2025-02-09 19:20:45 -0500 (Sun, 09 Feb 2025) EllapsedTime: 55.8 seconds RetCode: 0 Status: OK CheckDir: gemini.Rcheck Warnings: 0