Package: gemini Version: 1.21.0 Command: rm -rf gemini.buildbin-libdir && mkdir gemini.buildbin-libdir && /Users/biocbuild/BBS/utils/build-universal.sh gemini_1.21.0.tar.gz /Library/Frameworks/R.framework/Resources/bin/R gemini.buildbin-libdir StartedAt: 2025-02-13 00:37:47 -0500 (Thu, 13 Feb 2025) EndedAt: 2025-02-13 00:38:05 -0500 (Thu, 13 Feb 2025) EllapsedTime: 17.4 seconds RetCode: 0 Status: OK PackageFile: gemini_1.21.0.tgz PackageFileSize: 4.231 MiB