Package: gemini Version: 1.21.0 Command: /home/biocbuild/bbs-3.21-bioc/R/bin/R CMD build --keep-empty-dirs --no-resave-data gemini StartedAt: 2025-02-09 17:20:13 -0500 (Sun, 09 Feb 2025) EndedAt: 2025-02-09 17:20:38 -0500 (Sun, 09 Feb 2025) EllapsedTime: 25.1 seconds RetCode: 0 Status: OK PackageFile: gemini_1.21.0.tar.gz PackageFileSize: 4.085 MiB